BEGIN:VCALENDAR
VERSION:2.0
PRODID:-//https://www.st-marien.kiga-hab.de///NONSGML kigkonsult.se iCalcreator 2.10.15//
METHOD:PUBLISH
BEGIN:VEVENT
UID:20260426T045348CEST-2951m6O7Dx@https://www.st-marien.kiga-hab.de/
DTSTAMP:20260426T025348Z
DESCRIPTION: https://www.st-marien.kiga-hab.de/component/rseventspro/event/
 141-nikolausfeier-am-nachmittag?Itemid=101
DTSTART;VALUE=DATE:20191206
LOCATION:Kindertagesstätte St. Marien (Gutenbergstraße 7\, 97762 Hammelburg
 \, Deutschland)
SUMMARY:Nikolausfeier am Nachmittag
URL:https://www.st-marien.kiga-hab.de/component/rseventspro/event/141-nikol
 ausfeier-am-nachmittag?Itemid=101
END:VEVENT
END:VCALENDAR
