BEGIN:VCALENDAR
VERSION:2.0
PRODID:-//https://www.st-marien.kiga-hab.de///NONSGML kigkonsult.se iCalcreator 2.10.15//
METHOD:PUBLISH
BEGIN:VEVENT
UID:20260426T051351CEST-8734ZOMbfw@https://www.st-marien.kiga-hab.de/
DTSTAMP:20260426T031351Z
DESCRIPTION: https://www.st-marien.kiga-hab.de/component/rseventspro/event/
 143-weihnachtszauber-im-hakage-vereinsheim?Itemid=101
DTSTART;VALUE=DATE:20191206
LOCATION:HaKaGe Vereinsheim (Achtung wurde geändert! War vorher Pfarrheim) 
 (Friedhofstr. 13\, Hammelburg  (neben Zulassungsstelle))
SUMMARY:Weihnachtszauber im HaKaGE-Vereinsheim
URL:https://www.st-marien.kiga-hab.de/component/rseventspro/event/143-weihn
 achtszauber-im-hakage-vereinsheim?Itemid=101
END:VEVENT
END:VCALENDAR
