BEGIN:VCALENDAR
VERSION:2.0
PRODID:-//https://www.st-marien.kiga-hab.de///NONSGML kigkonsult.se iCalcreator 2.10.15//
METHOD:PUBLISH
BEGIN:VEVENT
UID:20260423T121620CEST-8143gPe9wU@https://www.st-marien.kiga-hab.de/
DTSTAMP:20260423T101620Z
DESCRIPTION: https://www.st-marien.kiga-hab.de/component/rseventspro/event/
 146-faschingsfeier-am-vormittag?Itemid=101
DTSTART;VALUE=DATE:20210211
LOCATION:Kindertagesstätte St. Marien (Gutenbergstraße 7\, 97762 Hammelburg
 \, Deutschland)
SUMMARY:Faschingsfeier am Vormittag
URL:https://www.st-marien.kiga-hab.de/component/rseventspro/event/146-fasch
 ingsfeier-am-vormittag?Itemid=101
END:VEVENT
END:VCALENDAR
